BEGIN:VCALENDAR
VERSION:2.0
PRODID:-//Game Dev Albacete - Asociaci&oacute;n Cultural de desarrolladores de videojuegos en Albacete - ECPv6.8.3//NONSGML v1.0//EN
CALSCALE:GREGORIAN
METHOD:PUBLISH
X-ORIGINAL-URL:https://gamedevalbacete.com
X-WR-CALDESC:Eventos para Game Dev Albacete - Asociaci&oacute;n Cultural de desarrolladores de videojuegos en Albacete
REFRESH-INTERVAL;VALUE=DURATION:PT1H
X-Robots-Tag:noindex
X-PUBLISHED-TTL:PT1H
BEGIN:VTIMEZONE
TZID:UTC
BEGIN:STANDARD
TZOFFSETFROM:+0000
TZOFFSETTO:+0000
TZNAME:UTC
DTSTART:20250101T000000
END:STANDARD
END:VTIMEZONE
BEGIN:VEVENT
DTSTART;TZID=UTC:20250718T110000
DTEND;TZID=UTC:20250718T140000
DTSTAMP:20260421T182445
CREATED:20250621T231925Z
LAST-MODIFIED:20250621T231950Z
UID:357-1752836400-1752847200@gamedevalbacete.com
SUMMARY:Playtesting de proyectos locales de julio
DESCRIPTION:Os adelantamos que será la mañana del 18 de julio a las 11:00 en el CSC Ensanche. ¡Más información pronto!
URL:https://gamedevalbacete.com/event/playtesting-de-proyectos-locales-de-julio/
CATEGORIES:Encuentro
ATTACH;FMTTYPE=image/png:https://gamedevalbacete.com/wp-content/uploads/2024/11/charla_web.png
END:VEVENT
END:VCALENDAR