BEGIN:VCALENDAR
VERSION:2.0
PRODID:-//Game Dev Albacete - Asociaci&oacute;n Cultural de desarrolladores de videojuegos en Albacete - ECPv6.8.3//NONSGML v1.0//EN
CALSCALE:GREGORIAN
METHOD:PUBLISH
X-ORIGINAL-URL:https://gamedevalbacete.com
X-WR-CALDESC:Eventos para Game Dev Albacete - Asociaci&oacute;n Cultural de desarrolladores de videojuegos en Albacete
REFRESH-INTERVAL;VALUE=DURATION:PT1H
X-Robots-Tag:noindex
X-PUBLISHED-TTL:PT1H
BEGIN:VTIMEZONE
TZID:UTC
BEGIN:STANDARD
TZOFFSETFROM:+0000
TZOFFSETTO:+0000
TZNAME:UTC
DTSTART:20240101T000000
END:STANDARD
TZID:Europe/Madrid
BEGIN:DAYLIGHT
TZOFFSETFROM:+0100
TZOFFSETTO:+0200
TZNAME:CEST
DTSTART:20240331T010000
END:DAYLIGHT
BEGIN:STANDARD
TZOFFSETFROM:+0200
TZOFFSETTO:+0100
TZNAME:CET
DTSTART:20241027T010000
END:STANDARD
END:VTIMEZONE
BEGIN:VEVENT
DTSTART;TZID=UTC:20250718T110000
DTEND;TZID=UTC:20250718T140000
DTSTAMP:20260424T080444
CREATED:20250621T231925Z
LAST-MODIFIED:20250621T231950Z
UID:357-1752836400-1752847200@gamedevalbacete.com
SUMMARY:Playtesting de proyectos locales de julio
DESCRIPTION:Os adelantamos que será la mañana del 18 de julio a las 11:00 en el CSC Ensanche. ¡Más información pronto!
URL:https://gamedevalbacete.com/event/playtesting-de-proyectos-locales-de-julio/
CATEGORIES:Encuentro
ATTACH;FMTTYPE=image/png:https://gamedevalbacete.com/wp-content/uploads/2024/11/charla_web.png
END:VEVENT
BEGIN:VEVENT
DTSTART;TZID=UTC:20250618T200000
DTEND;TZID=UTC:20250618T211500
DTSTAMP:20260424T080444
CREATED:20250621T231528Z
LAST-MODIFIED:20250621T232040Z
UID:354-1750276800-1750281300@gamedevalbacete.com
SUMMARY:Playtesting de proyectos locales de junio
DESCRIPTION:¡Ven a probar los proyectos de nuestros miembros o trae el tuyo para que lo probemos y te demos feedback!  \n¿Te lo vas a perder? \n\nLugar: Centro Sociocultural Ensanche (Sala 5)\nDía: 18 de junio de 2025.\nHora: 20:15 h.
URL:https://gamedevalbacete.com/event/playtesting-de-proyectos-locales/
CATEGORIES:Encuentro
ATTACH;FMTTYPE=image/jpeg:https://gamedevalbacete.com/wp-content/uploads/2025/06/GtFQnfJXEAAgqQ8.jpg
END:VEVENT
BEGIN:VEVENT
DTSTART;TZID=UTC:20250131T201500
DTEND;TZID=UTC:20250131T213000
DTSTAMP:20260424T080444
CREATED:20250128T201532Z
LAST-MODIFIED:20250128T201532Z
UID:337-1738354500-1738359000@gamedevalbacete.com
SUMMARY:II Asamblea General - ¡Ven para ver el futuro de la asociación!
DESCRIPTION:¡Este viernes tenemos la II Asamblea General de Game Dev Albacete!  \n¡Pásate para ver el futuro de la asociación de desarrolladores de videojuegos de Albacete!  \n\nLugar: Centro Sociocultural Ensanche (Salón de Actos) \nHora: 20:15 h.
URL:https://gamedevalbacete.com/event/ii-asamblea-general-ven-para-ver-el-futuro-de-la-asociacion/
ATTACH;FMTTYPE=image/jpeg:https://gamedevalbacete.com/wp-content/uploads/2025/01/fb679f8a-4e5e-4275-be05-5868b5ef0f78.jpg
END:VEVENT
BEGIN:VEVENT
DTSTART;TZID=UTC:20241116T103000
DTEND;TZID=UTC:20241116T140000
DTSTAMP:20260424T080444
CREATED:20241111T214934Z
LAST-MODIFIED:20241111T214934Z
UID:240-1731753000-1731765600@gamedevalbacete.com
SUMMARY:Encuentro: Desayuno matinal de sábado
DESCRIPTION:¡Únete a nuestro Discord\, os vamos avisando de dónde son los desayunos matinales de cada sábado! ¡Te esperamos este sábado 16 por la mañana para conocernos! \n🔗Discord: https://discord.gg/YqjVGUFUPy
URL:https://gamedevalbacete.com/event/encuentro-desayuno-matinal-de-sabado/
LOCATION:Cafetería Valor\, La Feria (Albacete)
CATEGORIES:Encuentro
ATTACH;FMTTYPE=image/jpeg:https://gamedevalbacete.com/wp-content/uploads/2024/11/Gam9jAwW4AAeETe.jpg
END:VEVENT
BEGIN:VEVENT
DTSTART;TZID=Europe/Madrid:20241108T203000
DTEND;TZID=Europe/Madrid:20241108T213000
DTSTAMP:20260424T080444
CREATED:20241111T213943Z
LAST-MODIFIED:20241111T214509Z
UID:232-1731097800-1731101400@gamedevalbacete.com
SUMMARY:Charla: Diseño ético y monetización en videojuegos
DESCRIPTION:¡Os recordamos que este viernes\, 8 de noviembre a las 20:30\, tendremos la charla sobre diseño ético y monetización en videojuegos! \nDe la mano de Juan María Sánchez Fernández y Arturo González Naharro en el Centro Sociocultural Ensanche de Albacete\, ¡nos vemos! 👋
URL:https://gamedevalbacete.com/event/charla-diseno-etico-y-monetizacion-en-videojuegos/
LOCATION:Centro Sociocultural Ensanche\, Albacete
CATEGORIES:Charla
ATTACH;FMTTYPE=image/jpeg:https://gamedevalbacete.com/wp-content/uploads/2024/11/Gbt8akZXAAszAWa.jpg
END:VEVENT
END:VCALENDAR